BEGIN:VCALENDAR
VERSION:2.0
PRODID:-//FREE PENTECOSTAL FELLOWSHIP IN KENYA - ECPv6.15.18//NONSGML v1.0//EN
CALSCALE:GREGORIAN
METHOD:PUBLISH
X-ORIGINAL-URL:https://fpfk.or.ke
X-WR-CALDESC:Events for FREE PENTECOSTAL FELLOWSHIP IN KENYA
REFRESH-INTERVAL;VALUE=DURATION:PT1H
X-Robots-Tag:noindex
X-PUBLISHED-TTL:PT1H
BEGIN:VTIMEZONE
TZID:UTC
BEGIN:STANDARD
TZOFFSETFROM:+0000
TZOFFSETTO:+0000
TZNAME:UTC
DTSTART:20250101T000000
END:STANDARD
END:VTIMEZONE
BEGIN:VEVENT
DTSTART;VALUE=DATE:20260112
DTEND;VALUE=DATE:20260126
DTSTAMP:20260422T024547
CREATED:20260112T232302Z
LAST-MODIFIED:20260112T232302Z
UID:15714-1768176000-1769385599@fpfk.or.ke
SUMMARY:FPFK National prayer & fasting activity 1st  Phase : 12th - 25th January 2026
DESCRIPTION:FPFK National prayer & fasting activity 1st Phase : 12th – 25th January 2026
URL:https://fpfk.or.ke/event/fpfk-national-prayer-fasting-activity-1st-phase-12th-25th-january-2026/
LOCATION:Country Wide
CATEGORIES:FPFK National prayer & fasting
END:VEVENT
END:VCALENDAR