BEGIN:VCALENDAR
VERSION:2.0
PRODID:-//FREE PENTECOSTAL FELLOWSHIP IN KENYA - ECPv6.15.18//NONSGML v1.0//EN
CALSCALE:GREGORIAN
METHOD:PUBLISH
X-WR-CALNAME:FREE PENTECOSTAL FELLOWSHIP IN KENYA
X-ORIGINAL-URL:https://fpfk.or.ke
X-WR-CALDESC:Events for FREE PENTECOSTAL FELLOWSHIP IN KENYA
REFRESH-INTERVAL;VALUE=DURATION:PT1H
X-Robots-Tag:noindex
X-PUBLISHED-TTL:PT1H
BEGIN:VTIMEZONE
TZID:UTC
BEGIN:STANDARD
TZOFFSETFROM:+0000
TZOFFSETTO:+0000
TZNAME:UTC
DTSTART:20240101T000000
END:STANDARD
END:VTIMEZONE
BEGIN:VEVENT
DTSTART;TZID=UTC:20251029T080000
DTEND;TZID=UTC:20251031T170000
DTSTAMP:20260424T140830
CREATED:20250108T052633Z
LAST-MODIFIED:20250108T052633Z
UID:13171-1761724800-1761930000@fpfk.or.ke
SUMMARY:UKIAMKA Prayer Meeting
DESCRIPTION:
URL:https://fpfk.or.ke/event/ukiamka-prayer-meeting/
LOCATION:To be communicated
END:VEVENT
END:VCALENDAR