BEGIN:VCALENDAR
VERSION:2.0
PRODID:-//FREE PENTECOSTAL FELLOWSHIP IN KENYA - ECPv6.15.18//NONSGML v1.0//EN
CALSCALE:GREGORIAN
METHOD:PUBLISH
X-ORIGINAL-URL:https://fpfk.or.ke
X-WR-CALDESC:Events for FREE PENTECOSTAL FELLOWSHIP IN KENYA
REFRESH-INTERVAL;VALUE=DURATION:PT1H
X-Robots-Tag:noindex
X-PUBLISHED-TTL:PT1H
BEGIN:VTIMEZONE
TZID:UTC
BEGIN:STANDARD
TZOFFSETFROM:+0000
TZOFFSETTO:+0000
TZNAME:UTC
DTSTART:20240101T000000
END:STANDARD
END:VTIMEZONE
BEGIN:VEVENT
DTSTART;TZID=UTC:20250818T080000
DTEND;TZID=UTC:20250824T170000
DTSTAMP:20260425T021649
CREATED:20250801T070807Z
LAST-MODIFIED:20250801T070807Z
UID:14043-1755504000-1756054800@fpfk.or.ke
SUMMARY:National Sunday school week
DESCRIPTION:The Children and Teens Ministry – National Sunday School Week will be happening from 18th to 24th August 2025 across all FPFK Churches in Kenya.\nThe theme will be “We will go with our young and old\, sons and daughters” from Exodus 10:9. \nACTIVITIES: \nVocational Bible Study\, Chain prayers\, Games\,  Music\, Drama\, Church clean-ups\, and so much more! \nPlease support by giving an offerings through Paybill 247247\, Account 1470266531299 to support! This initiative is Led by the FPFK National Committee and Ministry Teams. \nRemember\, these activities will be happening at your local FPFK church. \nLet’s nurture children as God’s heritage. \nFor more details\, contact Rev. George Nyachiro on +254 723 407878
URL:https://fpfk.or.ke/event/national-sunday-school-week/
LOCATION:All fpfk Churches accros the country
END:VEVENT
END:VCALENDAR